BEGIN:VCALENDAR
PRODID:-//PUBBLE//agenda//NL
VERSION:2.0
METHOD:PUBLISH
BEGIN:VEVENT
DTSTART:20260426T110000Z
DTEND:20261231T130000Z
DTSTAMP:20260426T034853Z
UID:6cf5e6f4-a3e5-41f2-850e-0e098bb247f1
CREATED:20260426T034853Z
NAME:Samen Lunchen op Zondag vierklank.nl
X-WR-CALNAME:Samen Lunchen op Zondag
X-ALT-DESC;FMTTYPE=text/html:<a href='/agenda/2026/4/26/samen-lunchen-op-zondag-1270409'>/agenda/2026/4/26/samen-lunchen-op-zondag-1270409</a> || <p>Gezellig samen lunchen, elke laatste zondag van de maand.&nbsp;</p><p>Kosten € 5,- (contant). Aanmelden <a href="mailto:activiteiten@mensdichtbij.nl">activiteiten@mensdichtbij.nl</a> of 06-38993959</p><p>https://mensdichtbij.nl/activiteiten/lunch-op-zondag/</p>
DESCRIPTION:<a href='/agenda/2026/4/26/samen-lunchen-op-zondag-1270409'>/agenda/2026/4/26/samen-lunchen-op-zondag-1270409</a> || <p>Gezellig samen lunchen, elke laatste zondag van de maand.&nbsp;</p><p>Kosten € 5,- (contant). Aanmelden <a href="mailto:activiteiten@mensdichtbij.nl">activiteiten@mensdichtbij.nl</a> of 06-38993959</p><p>https://mensdichtbij.nl/activiteiten/lunch-op-zondag/</p>
LAST-MODIFIED:20260426T034853Z
LOCATION: MENS InloopPunt  | Hessenweg 121 De Bilt
SEQUENCE:0
STATUS:CONFIRMED
SUMMARY:Samen Lunchen op Zondag
TRANSP:OPAQUE
END:VEVENT
END:VCALENDAR
