BEGIN:VCALENDAR
PRODID:-//PUBBLE//agenda//NL
VERSION:2.0
METHOD:PUBLISH
BEGIN:VEVENT
DTSTART:20260422T083000Z
DTEND:20260422T093000Z
DTSTAMP:20260420T080442Z
UID:7053f6b4-c2c4-4d15-b8ae-bdc25396529e
CREATED:20260420T080442Z
NAME:Koffie-inloop met Engelse conversatie vierklank.nl
X-WR-CALNAME:Koffie-inloop met Engelse conversatie
X-ALT-DESC;FMTTYPE=text/html:<a href='/agenda/2026/4/22/koffie-inloop-met-engelse-conversatie-1269565'>/agenda/2026/4/22/koffie-inloop-met-engelse-conversatie-1269565</a> || <p>NIEUW Inwonersinitiatief: Koffie-inloop met Engelse conversatie.</p><p>Start woensdag 22 april, 1x per 2 weken in de ONEVEN weken</p><p>Op informele wijze conversatie in het Engels oefenen, gezellig samenzijn, en met elkaar (eventuele) onzekerheden overwinnen. Aanmelden niet nodig.&nbsp;</p><p>Consumpties voor eigen rekening (€ 1,- per kop koffie/thee/soepje)</p><p>Elke woensdag 10.00/12.00 uur kan er tijdens de koffie-inloop ook een spelletje worden gespeeld.&nbsp;</p>
DESCRIPTION:<a href='/agenda/2026/4/22/koffie-inloop-met-engelse-conversatie-1269565'>/agenda/2026/4/22/koffie-inloop-met-engelse-conversatie-1269565</a> || <p>NIEUW Inwonersinitiatief: Koffie-inloop met Engelse conversatie.</p><p>Start woensdag 22 april, 1x per 2 weken in de ONEVEN weken</p><p>Op informele wijze conversatie in het Engels oefenen, gezellig samenzijn, en met elkaar (eventuele) onzekerheden overwinnen. Aanmelden niet nodig.&nbsp;</p><p>Consumpties voor eigen rekening (€ 1,- per kop koffie/thee/soepje)</p><p>Elke woensdag 10.00/12.00 uur kan er tijdens de koffie-inloop ook een spelletje worden gespeeld.&nbsp;</p>
LAST-MODIFIED:20260420T080442Z
LOCATION: MENS InloopPunt  | Hessenweg 121 De Bilt
SEQUENCE:0
STATUS:CONFIRMED
SUMMARY:Koffie-inloop met Engelse conversatie
TRANSP:OPAQUE
END:VEVENT
END:VCALENDAR
