BEGIN:VCALENDAR
PRODID:-//PUBBLE//agenda//NL
VERSION:2.0
METHOD:PUBLISH
BEGIN:VEVENT
DTSTART:20260422T173000Z
DTEND:20260422T193000Z
DTSTAMP:20260422T031653Z
UID:8729bc75-1205-4b74-baae-0adb2bf72bac
CREATED:20260422T031653Z
NAME:Concert Nieuw Talent Orkest Westbroek vierklank.nl
X-WR-CALNAME:Concert Nieuw Talent Orkest Westbroek
X-ALT-DESC;FMTTYPE=text/html:<a href='/agenda/2026/4/22/concert-nieuw-talent-orkest-westbroek-1268827'>/agenda/2026/4/22/concert-nieuw-talent-orkest-westbroek-1268827</a> || <p>Het Nieuw Talent Orkest Westbroek geeft haar eerste concert onder leiding van Els van der Weij, in samenwerking met fanfare Vriendenkring in het Dorpshuis Westbroek. &nbsp;Voor de pauze laat het bijna 40 koppige orkest horen dat zij in ruim tien weken een instrument hebben leren bespelen. &nbsp;Na de pauze is er een open repetitie van de fanfare onder leiding van Olaf Schipper, waarbij publiek van harte welkom is. &nbsp;</p><p>De toegang is gratis!</p>
DESCRIPTION:<a href='/agenda/2026/4/22/concert-nieuw-talent-orkest-westbroek-1268827'>/agenda/2026/4/22/concert-nieuw-talent-orkest-westbroek-1268827</a> || <p>Het Nieuw Talent Orkest Westbroek geeft haar eerste concert onder leiding van Els van der Weij, in samenwerking met fanfare Vriendenkring in het Dorpshuis Westbroek. &nbsp;Voor de pauze laat het bijna 40 koppige orkest horen dat zij in ruim tien weken een instrument hebben leren bespelen. &nbsp;Na de pauze is er een open repetitie van de fanfare onder leiding van Olaf Schipper, waarbij publiek van harte welkom is. &nbsp;</p><p>De toegang is gratis!</p>
LAST-MODIFIED:20260422T031653Z
LOCATION: Dorpshuis Westbroek | Prinses Christinastraat 2 Westbroek
SEQUENCE:0
STATUS:CONFIRMED
SUMMARY:Concert Nieuw Talent Orkest Westbroek
TRANSP:OPAQUE
END:VEVENT
END:VCALENDAR
