BEGIN:VCALENDAR
PRODID:-//PUBBLE//agenda//NL
VERSION:2.0
METHOD:PUBLISH
BEGIN:VEVENT
DTSTART:20260422T120000Z
DTEND:20260422T130000Z
DTSTAMP:20260421T035656Z
UID:294de406-7e7f-41e9-a785-7f7486ebcf02
CREATED:20260421T035656Z
NAME:Kwetsbaar geheugen - inloopspreekuur vierklank.nl
X-WR-CALNAME:Kwetsbaar geheugen - inloopspreekuur
X-ALT-DESC;FMTTYPE=text/html:<a href='/agenda/2026/4/22/kwetsbaar-geheugen-inloopspreekuur-1268461'>/agenda/2026/4/22/kwetsbaar-geheugen-inloopspreekuur-1268461</a> || <p>Maak je je zorgen over veranderingen in geheugen of gedrag van je partner, een dierbare of van jezelf? Twijfel je of het gewoon bij de leeftijd passende vergeetachtigheid is of meer?</p><p>Hier kun je in alle rust je verhaal kwijt, er wordt met je meegedacht en waar nodig word je verder op weg geholpen. Er zijn geen kosten verbonden aan dit spreekuur.&nbsp;</p><p>https://mensdichtbij.nl/activiteiten/spreekuur-kwetsbaar-geheugen/</p>
DESCRIPTION:<a href='/agenda/2026/4/22/kwetsbaar-geheugen-inloopspreekuur-1268461'>/agenda/2026/4/22/kwetsbaar-geheugen-inloopspreekuur-1268461</a> || <p>Maak je je zorgen over veranderingen in geheugen of gedrag van je partner, een dierbare of van jezelf? Twijfel je of het gewoon bij de leeftijd passende vergeetachtigheid is of meer?</p><p>Hier kun je in alle rust je verhaal kwijt, er wordt met je meegedacht en waar nodig word je verder op weg geholpen. Er zijn geen kosten verbonden aan dit spreekuur.&nbsp;</p><p>https://mensdichtbij.nl/activiteiten/spreekuur-kwetsbaar-geheugen/</p>
LAST-MODIFIED:20260421T035656Z
LOCATION: MENS InloopPunt  | Hessenweg 121 De Bilt
SEQUENCE:0
STATUS:CONFIRMED
SUMMARY:Kwetsbaar geheugen - inloopspreekuur
TRANSP:OPAQUE
END:VEVENT
END:VCALENDAR
