BEGIN:VCALENDAR
PRODID:-//PUBBLE//agenda//NL
VERSION:2.0
METHOD:PUBLISH
BEGIN:VEVENT
DTSTART:20260424T180000Z
DTEND:20260424T203000Z
DTSTAMP:20260424T043352Z
UID:838f6d8a-0005-45d1-b7ce-5036261d4ed2
CREATED:20260424T043352Z
NAME:Avond van semi-akoestische bands vierklank.nl
X-WR-CALNAME:Avond van semi-akoestische bands
X-ALT-DESC;FMTTYPE=text/html:<a href='/agenda/2026/4/24/avond-van-semi-akoestische-bands-1267775'>/agenda/2026/4/24/avond-van-semi-akoestische-bands-1267775</a> || <p>Stichting Cultuurpodium De Bilt organiseert in samenwerking met De Clou:</p><p>GreenhornXS - Spelen eigen liedjes. Beetje pop, maar vooral heel lief!</p><p>Bieke - Zingt kwetsbare, verhalende Nederlandstalige popmuziek.</p><p>The Streetband - Legendarische top hits, voor deze gelegenheid in een semi- &nbsp;</p><p>&nbsp; &nbsp; &nbsp; &nbsp; &nbsp; &nbsp; &nbsp; &nbsp; &nbsp; &nbsp; &nbsp; &nbsp; &nbsp; &nbsp; akoestisch jasje. &nbsp;</p><p>Geluid: Rogier Bakker BRB Sound.</p><p>Gratis entree. Wil je zelf een keer shinen op het open podium bel Ivo 0628509848&nbsp;</p>
DESCRIPTION:<a href='/agenda/2026/4/24/avond-van-semi-akoestische-bands-1267775'>/agenda/2026/4/24/avond-van-semi-akoestische-bands-1267775</a> || <p>Stichting Cultuurpodium De Bilt organiseert in samenwerking met De Clou:</p><p>GreenhornXS - Spelen eigen liedjes. Beetje pop, maar vooral heel lief!</p><p>Bieke - Zingt kwetsbare, verhalende Nederlandstalige popmuziek.</p><p>The Streetband - Legendarische top hits, voor deze gelegenheid in een semi- &nbsp;</p><p>&nbsp; &nbsp; &nbsp; &nbsp; &nbsp; &nbsp; &nbsp; &nbsp; &nbsp; &nbsp; &nbsp; &nbsp; &nbsp; &nbsp; akoestisch jasje. &nbsp;</p><p>Geluid: Rogier Bakker BRB Sound.</p><p>Gratis entree. Wil je zelf een keer shinen op het open podium bel Ivo 0628509848&nbsp;</p>
LAST-MODIFIED:20260424T043352Z
LOCATION: De Clou | Molenkamp 44 De Bilt
SEQUENCE:0
STATUS:CONFIRMED
SUMMARY:Avond van semi-akoestische bands
TRANSP:OPAQUE
END:VEVENT
END:VCALENDAR
