BEGIN:VCALENDAR
PRODID:-//PUBBLE//agenda//NL
VERSION:2.0
METHOD:PUBLISH
BEGIN:VEVENT
DTSTART:20260424T050000Z
DTEND:20260424T063000Z
DTSTAMP:20260423T031445Z
UID:2f28f93c-53ff-46dc-9062-8681c03f530a
CREATED:20260423T031445Z
NAME:Pre Breakfast Run vierklank.nl
X-WR-CALNAME:Pre Breakfast Run
X-ALT-DESC;FMTTYPE=text/html:<a href='/agenda/2026/4/24/pre-breakfast-run-1267674'>/agenda/2026/4/24/pre-breakfast-run-1267674</a> || <p>Hou je van een frisse start van de dag? Vind je het fijn om samen met mensen actief te bewegen? Voel je je thuis op een plek waar er ruimte is voor jou als mens? Doe dan mee met de Pre Breakfast Run: vanaf 24 april om 7 uur vanuit MIKA, naast treinstation Bilthoven. We lopen met een kleine groep deelnemers, op een relaxed hardlooptempo.</p><p>Je meld je aan voor 4 sessies: 24 april, 8 mei, 22 mei en 5 juni. Meer info op prebreakfastrun.nl.</p>
DESCRIPTION:<a href='/agenda/2026/4/24/pre-breakfast-run-1267674'>/agenda/2026/4/24/pre-breakfast-run-1267674</a> || <p>Hou je van een frisse start van de dag? Vind je het fijn om samen met mensen actief te bewegen? Voel je je thuis op een plek waar er ruimte is voor jou als mens? Doe dan mee met de Pre Breakfast Run: vanaf 24 april om 7 uur vanuit MIKA, naast treinstation Bilthoven. We lopen met een kleine groep deelnemers, op een relaxed hardlooptempo.</p><p>Je meld je aan voor 4 sessies: 24 april, 8 mei, 22 mei en 5 juni. Meer info op prebreakfastrun.nl.</p>
LAST-MODIFIED:20260423T031445Z
LOCATION: MIKA yoga & coffee | Emmaplein 20 Bilthoven
SEQUENCE:0
STATUS:CONFIRMED
SUMMARY:Pre Breakfast Run
TRANSP:OPAQUE
END:VEVENT
END:VCALENDAR
