BEGIN:VCALENDAR
PRODID:-//PUBBLE//agenda//NL
VERSION:2.0
METHOD:PUBLISH
BEGIN:VEVENT
DTSTART:20260422T080000Z
DTEND:20260422T093000Z
DTSTAMP:20260420T081652Z
UID:f87a96aa-f0cd-43e5-9ba8-22132c09acd2
CREATED:20260420T081652Z
NAME:Ouder En Kind Lokaal vierklank.nl
X-WR-CALNAME:Ouder En Kind Lokaal
X-ALT-DESC;FMTTYPE=text/html:<a href='/agenda/2026/4/22/ouder-en-kind-lokaal-1265418'>/agenda/2026/4/22/ouder-en-kind-lokaal-1265418</a> || <p>We starten met voorlezen. Kom deze ochtend gezellig langs met je kind(eren) en ontmoet andere ouders in een ontspannen, vrijblijvende setting. Kinderen kunnen met elkaar spelen met speelgoed uit de speelgoedkist en ouders kunnen met elkaar kletsen over dynamiek van het opvoeden.&nbsp;</p>
DESCRIPTION:<a href='/agenda/2026/4/22/ouder-en-kind-lokaal-1265418'>/agenda/2026/4/22/ouder-en-kind-lokaal-1265418</a> || <p>We starten met voorlezen. Kom deze ochtend gezellig langs met je kind(eren) en ontmoet andere ouders in een ontspannen, vrijblijvende setting. Kinderen kunnen met elkaar spelen met speelgoed uit de speelgoedkist en ouders kunnen met elkaar kletsen over dynamiek van het opvoeden.&nbsp;</p>
LAST-MODIFIED:20260420T081652Z
LOCATION: Het Lichtruim | Planetenplein 2 Bilthoven
SEQUENCE:0
STATUS:CONFIRMED
SUMMARY:Ouder En Kind Lokaal
TRANSP:OPAQUE
END:VEVENT
END:VCALENDAR
