BEGIN:VCALENDAR
PRODID:-//PUBBLE//agenda//NL
VERSION:2.0
METHOD:PUBLISH
BEGIN:VEVENT
DTSTART:20260309T123000Z
DTEND:20260309T143000Z
DTSTAMP:20260421T164437Z
UID:e53bcf7b-43cb-48b8-8c96-252cc4db858c
CREATED:20260421T164437Z
NAME:Werkbezoek nieuwbouwlocatie in Bilthoven vierklank.nl
X-WR-CALNAME:Werkbezoek nieuwbouwlocatie in Bilthoven
X-ALT-DESC;FMTTYPE=text/html:<a href='/agenda/2026/3/9/werkbezoek-nieuwbouwlocatie-in-bilthoven-1254519'>/agenda/2026/3/9/werkbezoek-nieuwbouwlocatie-in-bilthoven-1254519</a> || <p>Werkbezoek nieuwbouwlocatie Bilthoven</p><p>D66 De Bilt organiseert samen met Woongroen en projectontwikkelaars een werkbezoek aan nieuwbouwlocatie Leyens Erve in Bilthoven. Tijdens dit bezoek kun je terecht met al je vragen en kom je meer te weten over het project. Super interessant én leerzaam dus! Ben jij er ook bij?</p><p>De plekken zijn beperkt, dus meld je snel aan!👇</p><p>https://rocketform.io/r/rr7eqwzqxcafyq</p>
DESCRIPTION:<a href='/agenda/2026/3/9/werkbezoek-nieuwbouwlocatie-in-bilthoven-1254519'>/agenda/2026/3/9/werkbezoek-nieuwbouwlocatie-in-bilthoven-1254519</a> || <p>Werkbezoek nieuwbouwlocatie Bilthoven</p><p>D66 De Bilt organiseert samen met Woongroen en projectontwikkelaars een werkbezoek aan nieuwbouwlocatie Leyens Erve in Bilthoven. Tijdens dit bezoek kun je terecht met al je vragen en kom je meer te weten over het project. Super interessant én leerzaam dus! Ben jij er ook bij?</p><p>De plekken zijn beperkt, dus meld je snel aan!👇</p><p>https://rocketform.io/r/rr7eqwzqxcafyq</p>
LAST-MODIFIED:20260421T164437Z
LOCATION: Leyens Erve | Leyenseweg 40 Bilthoven
SEQUENCE:0
STATUS:CONFIRMED
SUMMARY:Werkbezoek nieuwbouwlocatie in Bilthoven
TRANSP:OPAQUE
END:VEVENT
END:VCALENDAR
